{"text_format":"3","workbook":"xlsx","n_sheets":8,"sheets":["Title","ContactUs","Display","Trend Charts","Help","About","Maintenance","Calculations"],"not_rendered":{"charts":6,"images":3,"macros":1,"defined_names":6,"comments":1},"read":"whole","date_system":"1900"}

{"sheet":"Title","index":0,"n_rows":26,"n_cols":13,"rows_kept":26}
[]
[]
[]
[{"$nulls":4},"Wind and Tide Vector Calculator"]
{"$rows_empty":16}
[{"$nulls":12},{"$f":"Maintenance!B5","v":"Version 1-4    May 2007"}]
[]
[{"$nulls":6},"For further information please see:-   www.watvc.org.uk"]
[]
[]
[{"$nulls":3},"www.watvc.org.uk",{"$nulls":3},{"$f":"Maintenance!B7","v":"This Product is licenced to Demo Version."},{"$nulls":4},"A BTecNet (UK) Company"]

{"sheet":"ContactUs","index":1,"n_rows":18,"n_cols":12,"rows_kept":18,"merged":[[8,1,8,12],[11,1,11,12],[12,1,12,12],[14,6,14,7],[15,1,15,12],[16,1,16,12],[17,1,17,12]]}
[]
[]
[]
[]
[{"$nulls":11},"Contact Us"]
[]
[]
[]
[null,"If the 'Test' button fails to function correctly this software \nmay have been obtained from an unauthorised source."]
[]
[]
[null,"Please contact"]
[null,"sales@watvc.org.uk"]
[]
[]
[null,"Or visit:-"]
[]
[null,"www.watvc.org.uk"]

{"sheet":"Display","index":2,"n_rows":33,"n_cols":15,"rows_kept":33,"merged":[[6,3,6,4],[6,9,6,10],[6,12,6,13],[10,3,10,4],[14,3,14,4],[28,9,28,10],[28,12,28,13],[32,2,32,6]]}
[]
[null,null," ","Wind and Tide Vector Calculator  ( WATVC )",{"$nulls":9},{"$f":"Maintenance!B5","v":"Version 1-4    May 2007"}]
[]
[]
[]
[{"$nulls":7}," "]
[{"$nulls":3},"Estimated Course to Steer",{"$nulls":5},"Winds and Tides cont'd"]
[{"$nulls":3},"Distance","Heading (Deg)",{"$nulls":4},"Distance","Heading (Deg)"]
[{"$nulls":3},0,0,{"$nulls":4},{"v":0,"d":"0.00"},0]
[{"$nulls":9},{"v":0,"d":"0.00"},0]
[{"$nulls":3},"Destination",{"$nulls":5},{"v":0,"d":"0.00"},0]
[{"$nulls":3},"Distance","Heading (Deg)",{"$nulls":4},{"v":0,"d":"0.00"},0]
[{"$nulls":3},10,360,{"$nulls":4},{"v":0,"d":"0.00"},0]
[{"$nulls":9},{"v":0,"d":"0.00"},0]
[{"$nulls":3},"Winds and Tides",{"$nulls":5},{"v":0,"d":"0.00"},0]
[{"$nulls":3},"Distance","Heading (Deg)",{"$nulls":4},{"v":0,"d":"0.00"},0]
[{"$nulls":3},{"v":0,"d":"0.00"},0,{"$nulls":4},{"v":0,"d":"0.00"},0]
[{"$nulls":3},{"v":0,"d":"0.00"},0,{"$nulls":4},{"v":0,"d":"0.00"},0]
[{"$nulls":3},{"v":0,"d":"0.00"},0,{"$nulls":4},{"v":0,"d":"0.00"},0]
[{"$nulls":3},{"v":0,"d":"0.00"},0,{"$nulls":4},{"v":0,"d":"0.00"},0]
[{"$nulls":3},{"v":0,"d":"0.00"},0,{"$nulls":4},{"v":0,"d":"0.00"},0]
[{"$nulls":3},{"v":0,"d":"0.00"},0,{"$nulls":4},{"v":0,"d":"0.00"},0]
[{"$nulls":3},{"v":0,"d":"0.00"},0,{"$nulls":4},{"v":0,"d":"0.00"},0]
[{"$nulls":3},{"v":0,"d":"0.00"},0,{"$nulls":4},{"v":0,"d":"0.00"},0]
[{"$nulls":3},{"v":0,"d":"0.00"},0,{"$nulls":4},{"v":0,"d":"0.00"},0]
[{"$nulls":3},{"v":0,"d":"0.00"},0,{"$nulls":4},{"v":0,"d":"0.00"},0]
[{"$nulls":3},{"v":0,"d":"0.00"},0,{"$nulls":4},{"v":0,"d":"0.00"},0]
[{"$nulls":3},{"v":0,"d":"0.00"},0]
[{"$nulls":3},{"v":0,"d":"0.00"},0,{"$nulls":4},"Total Calculated Drift",null,null,"Course to Steer"]
[{"$nulls":3},{"v":0,"d":"0.00"},0,{"$nulls":4},"Distance","Heading (Deg)",null,"Distance","Heading (+/- 3 Deg)"]
[{"$nulls":3},{"v":0,"d":"0.00"},0,{"$nulls":4},{"$f":"Calculations!E43","v":{"v":0,"d":"0.00"}},{"$f":"Calculations!D124","v":0},null,{"$f":"Calculations!I125","v":{"v":10,"d":"10.00"}},{"$f":"Calculations!I203","v":0}]
[{"$nulls":10},1]
[null,null,{"$f":"Maintenance!B7","v":"This Product is licenced to Demo Version."},{"$nulls":11},"A BTecNet (UK) Company"]

{"sheet":"Trend Charts","index":3,"n_rows":33,"n_cols":15,"rows_kept":33,"merged":[[6,12,6,13]]}
[]
[null,null," ","Wind and Tide Vector Calculator  ( WATVC )"]
{"$rows_empty":30}
[null,null,{"$f":"Maintenance!B7","v":"This Product is licenced to Demo Version."},{"$nulls":11},"A BTecNet (UK) Company"]

{"sheet":"Help","index":4,"n_rows":33,"n_cols":6,"rows_kept":33,"merged":[[32,1,32,15]]}
{"$rows_empty":11}
[{"$nulls":5}," "]
{"$rows_empty":20}
[null,"Or just follow the diagram below . . . "]

{"sheet":"About","index":5,"n_rows":12,"n_cols":3,"rows_kept":12}
{"$rows_empty":11}
[null,null,"  "]

{"sheet":"Maintenance","index":6,"n_rows":10,"n_cols":4,"rows_kept":10}
[]
[]
[]
[{"$nulls":3},"NO USER EDITABLE REGIONS ON THIS PAGE"]
[null,"Version 1-4    May 2007"]
[]
[null,"This Product is licenced to Demo Version."]
[]
[]
[null,"Cat Cat"]

{"sheet":"Calculations","index":7,"n_rows":208,"n_cols":21,"rows_kept":208,"merged":[[46,15,46,17]]}
[]
[null,null,"WARNING"]
[null,"NO USER EDITABLE REGIONS ON THIS PAGE"]
[]
[]
[]
[{"$nulls":16},"NOMENCLATURE CHANGES IN DISPLAY TAB after discussion with D Stephen"]
[null,"Distance","X","Y",{"$nulls":3},"Heading","Radians"]
[null,{"$f":"Display!D17","v":0},{"$f":"B9*SIN(I9)","v":{"v":0,"d":"0.00"}},{"$f":"B9*COS(I9)","v":{"v":0,"d":"0.00"}},{"$nulls":3},{"$f":"Display!E17","v":0},{"$f":"3.14159265358979*(H9)/180","v":{"v":0,"d":"0.00"}},null,null,{"$f":"SIN(I9)","v":0},null,1,null,null,"Ground Track=Destination"]
[null,{"$f":"Display!D18","v":0},{"$f":"B10*SIN(I10)","v":{"v":0,"d":"0.00"}},{"$f":"B10*COS(I10)","v":{"v":0,"d":"0.00"}},{"$nulls":3},{"$f":"Display!E18","v":0},{"$f":"3.14159265358979*(H10)/180","v":{"v":0,"d":"0.00"}},null,null,{"$f":"SIN(I10)","v":0},null,2,null,null,"Dead Reconing=Initial Estimate"]
[null,{"$f":"Display!D19","v":0},{"v":0,"d":"0.00"},{"v":0,"d":"0.00"},{"$nulls":3},{"$f":"Display!E19","v":0},{"v":0,"d":"0.00"},null,null,{"$f":"SIN(I11)","v":0},null,3,null,null,"Disturbance Vector=Drift"]
[null,{"$f":"Display!D20","v":0},{"v":0,"d":"0.00"},{"v":0,"d":"0.00"},{"$nulls":3},{"$f":"Display!E20","v":0},{"v":0,"d":"0.00"},null,null,0,null,4,null,null,"Distance & Heading=Course to Steer"]
[null,{"$f":"Display!D21","v":0},{"v":0,"d":"0.00"},{"v":0,"d":"0.00"},{"$nulls":3},{"$f":"Display!E21","v":0},{"v":0,"d":"0.00"},null,null,0,null,5]
[null,{"$f":"Display!D22","v":0},{"v":0,"d":"0.00"},{"$f":"B14*COS(I14)","v":{"v":0,"d":"0.00"}},{"$nulls":3},{"$f":"Display!E22","v":0},{"v":0,"d":"0.00"},null,null,{"$f":"SIN(I14)","v":0},null,6,null,null,"I Also added lots more disturbance vectors in v1.3   May 2007"]
[null,{"$f":"Display!D23","v":0},{"v":0,"d":"0.00"},{"v":0,"d":"0.00"},{"$nulls":3},{"$f":"Display!E23","v":0},{"v":0,"d":"0.00"},null,null,0,null,7]
[null,{"$f":"Display!D24","v":0},{"v":0,"d":"0.00"},{"v":0,"d":"0.00"},{"$nulls":3},{"$f":"Display!E24","v":0},{"v":0,"d":"0.00"},null,null,0,null,8]
[null,{"$f":"Display!D25","v":0},{"v":0,"d":"0.00"},{"v":0,"d":"0.00"},{"$nulls":3},{"$f":"Display!E25","v":0},{"v":0,"d":"0.00"},null,null,0,null,9]
[null,{"$f":"Display!D26","v":0},{"$f":"B18*SIN(I18)","v":{"v":0,"d":"0.00"}},{"v":0,"d":"0.00"},{"$nulls":3},{"$f":"Display!E26","v":0},{"v":0,"d":"0.00"},null,null,0,null,10]
[null,{"$f":"Display!D27","v":0},{"v":0,"d":"0.00"},{"v":0,"d":"0.00"},{"$nulls":3},{"$f":"Display!E27","v":0},{"v":0,"d":"0.00"},null,null,0,null,11]
[null,{"$f":"Display!D28","v":0},{"v":0,"d":"0.00"},{"v":0,"d":"0.00"},{"$nulls":3},{"$f":"Display!E28","v":0},{"v":0,"d":"0.00"},null,null,0,null,12]
[null,{"$f":"Display!D29","v":0},{"v":0,"d":"0.00"},{"v":0,"d":"0.00"},{"$nulls":3},{"$f":"Display!E29","v":0},{"v":0,"d":"0.00"},null,null,0,null,13]
[null,{"$f":"Display!D30","v":0},{"v":0,"d":"0.00"},{"v":0,"d":"0.00"},{"$nulls":3},{"$f":"Display!E30","v":0},{"v":0,"d":"0.00"},null,null,0,null,14]
[null,{"$f":"Display!D31","v":0},{"v":0,"d":"0.00"},{"v":0,"d":"0.00"},{"$nulls":3},{"$f":"Display!E31","v":0},{"v":0,"d":"0.00"},null,null,0,null,15]
[null,{"$f":"Display!J9","v":0},{"v":0,"d":"0.00"},{"v":0,"d":"0.00"},{"$nulls":3},{"$f":"Display!K9","v":0},{"v":0,"d":"0.00"},null,null,0,null,16]
[null,{"$f":"Display!J10","v":0},{"v":0,"d":"0.00"},{"v":0,"d":"0.00"},{"$nulls":3},{"$f":"Display!K10","v":0},{"v":0,"d":"0.00"},null,null,0,null,17]
[null,{"$f":"Display!J11","v":0},{"v":0,"d":"0.00"},{"v":0,"d":"0.00"},{"$nulls":3},{"$f":"Display!K11","v":0},{"v":0,"d":"0.00"},null,null,0,null,18]
[null,{"$f":"Display!J12","v":0},{"v":0,"d":"0.00"},{"v":0,"d":"0.00"},{"$nulls":3},{"$f":"Display!K12","v":0},{"v":0,"d":"0.00"},null,null,0,null,19]
[null,{"$f":"Display!J13","v":0},{"v":0,"d":"0.00"},{"v":0,"d":"0.00"},{"$nulls":3},{"$f":"Display!K13","v":0},{"v":0,"d":"0.00"},null,null,0,null,20]
[null,{"$f":"Display!J14","v":0},{"v":0,"d":"0.00"},{"v":0,"d":"0.00"},{"$nulls":3},{"$f":"Display!K14","v":0},{"v":0,"d":"0.00"},null,null,0,null,21]
[null,{"$f":"Display!J15","v":0},{"v":0,"d":"0.00"},{"v":0,"d":"0.00"},{"$nulls":3},{"$f":"Display!K15","v":0},{"v":0,"d":"0.00"},null,null,0,null,22]
[null,{"$f":"Display!J16","v":0},{"v":0,"d":"0.00"},{"v":0,"d":"0.00"},{"$nulls":3},{"$f":"Display!K16","v":0},{"v":0,"d":"0.00"},null,null,0,null,23]
[null,{"$f":"Display!J17","v":0},{"v":0,"d":"0.00"},{"v":0,"d":"0.00"},{"$nulls":3},{"$f":"Display!K17","v":0},{"v":0,"d":"0.00"},null,null,0,null,24]
[null,{"$f":"Display!J18","v":0},{"v":0,"d":"0.00"},{"v":0,"d":"0.00"},{"$nulls":3},{"$f":"Display!K18","v":0},{"v":0,"d":"0.00"},null,null,0,null,25]
[null,{"$f":"Display!J19","v":0},{"v":0,"d":"0.00"},{"v":0,"d":"0.00"},{"$nulls":3},{"$f":"Display!K19","v":0},{"v":0,"d":"0.00"},null,null,0,null,26]
[null,{"$f":"Display!J20","v":0},{"v":0,"d":"0.00"},{"v":0,"d":"0.00"},{"$nulls":3},{"$f":"Display!K20","v":0},{"v":0,"d":"0.00"},null,null,0,null,27]
[null,{"$f":"Display!J21","v":0},{"v":0,"d":"0.00"},{"v":0,"d":"0.00"},{"$nulls":3},{"$f":"Display!K21","v":0},{"v":0,"d":"0.00"},null,null,0,null,28]
[null,{"$f":"Display!J22","v":0},{"v":0,"d":"0.00"},{"v":0,"d":"0.00"},{"$nulls":3},{"$f":"Display!K22","v":0},{"v":0,"d":"0.00"},null,null,0,null,29]
[null,{"$f":"Display!J23","v":0},{"v":0,"d":"0.00"},{"v":0,"d":"0.00"},{"$nulls":3},{"$f":"Display!K23","v":0},{"v":0,"d":"0.00"},null,null,0,null,30]
[null,{"$f":"Display!J24","v":0},{"v":0,"d":"0.00"},{"v":0,"d":"0.00"},{"$nulls":3},{"$f":"Display!K24","v":0},{"v":0,"d":"0.00"},null,null,0,null,31]
[null,{"$f":"Display!J25","v":0},{"v":0,"d":"0.00"},{"v":0,"d":"0.00"},{"$nulls":3},{"$f":"Display!K25","v":0},{"v":0,"d":"0.00"},null,null,0,null,32]
[null,{"$f":"Display!J26","v":0},{"v":0,"d":"0.00"},{"v":0,"d":"0.00"},{"$nulls":3},{"$f":"Display!K26","v":0},{"v":0,"d":"0.00"},null,null,0,null,33]
[null,{"$f":"Display!J27","v":0},{"v":0,"d":"0.00"},{"v":0,"d":"0.00"},"Resultant Distance",null,null,{"$f":"Display!K27","v":0},{"v":0,"d":"0.00"},null,null,0,null,34]
[null,"Total",{"$f":"SUM(C9:C42)","v":{"v":0,"d":"0.00"}},{"$f":"SUM(D9:D42)","v":{"v":0,"d":"0.00"}},{"$f":"SQRT(C43*C43+D43*D43)","v":{"v":0,"d":"0.00"}},null,"Resultant",{"$f":"90-(I43*180/(3.14159265358979))","v":{"$error":"#DIV/0!"}},{"$f":"ATAN2(C43,D43)","v":{"$error":"#DIV/0!"}}]
[]
[]
[{"$nulls":15},"Trend No.","Heading","Distance"]
[{"$nulls":15},"Error Data to Populate blenk chart"]
[{"$nulls":15},-26,0,0]
[{"$nulls":15},-25,0,0]
[{"$nulls":15},-24,0,0]
[null,0,{"$f":"IF($H$43>=(B51-2.5),IF($H$43<(B51+2.5),$E$43,0))","v":{"$error":"#DIV/0!"}},0,{"$nulls":11},-23,0,0]
[null,5,{"$f":"IF($H$43>=(B52-2.5),IF($H$43<(B52+2.5),$E$43,0))","v":{"$error":"#DIV/0!"}},5,{"$nulls":11},-22,0,0]
[null,10,{"$f":"IF($H$43>=(B53-2.5),IF($H$43<(B53+2.5),$E$43,0))","v":{"$error":"#DIV/0!"}},10,{"$nulls":11},-21,0,0]
[null,15,{"$error":"#DIV/0!"},15,{"$nulls":11},-20,0,0]
[null,20,{"$error":"#DIV/0!"},20,{"$nulls":11},-19,0,0]
[null,25,{"$error":"#DIV/0!"},25,{"$nulls":11},-18,0,0]
[null,30,{"$error":"#DIV/0!"},30,{"$nulls":11},-17,0,0]
[null,35,{"$error":"#DIV/0!"},35,{"$nulls":11},-16,0,0]
[null,40,{"$error":"#DIV/0!"},40,{"$nulls":11},-15,0,0]
[null,45,{"$f":"IF($H$43>=(B60-2.5),IF($H$43<(B60+2.5),$E$43,0))","v":{"$error":"#DIV/0!"}},45,{"$nulls":11},-14,0,0]
[null,50,{"$error":"#DIV/0!"},50,{"$nulls":11},-13,0,0]
[null,55,{"$error":"#DIV/0!"},55,{"$nulls":11},-12,0,0]
[null,60,{"$error":"#DIV/0!"},60,{"$nulls":11},-11,0,0]
[null,65,{"$f":"IF($H$43>=(B64-2.5),IF($H$43<(B64+2.5),$E$43,0))","v":{"$error":"#DIV/0!"}},65,{"$nulls":11},-10,0,0]
[null,70,{"$error":"#DIV/0!"},70,{"$nulls":11},-9,0,0]
[null,75,{"$error":"#DIV/0!"},75,{"$nulls":11},-8,0,0]
[null,80,{"$error":"#DIV/0!"},80,{"$nulls":11},-7,0,0]
[null,85,{"$error":"#DIV/0!"},85,{"$nulls":11},-6,0,0]
[null,90,{"$error":"#DIV/0!"},90,{"$nulls":11},-5,0,0]
[null,95,{"$error":"#DIV/0!"},95,{"$nulls":11},-4,0,0]
[null,100,{"$error":"#DIV/0!"},100,{"$nulls":11},-3,0,0]
[null,105,{"$error":"#DIV/0!"},105,{"$nulls":11},-2,0,0]
[null,110,{"$error":"#DIV/0!"},110,{"$nulls":11},-1,0,0]
[null,115,{"$error":"#DIV/0!"},115,{"$nulls":11},0,0,0,null,null," "]
[null,120,{"$error":"#DIV/0!"},120]
[null,125,{"$error":"#DIV/0!"},125]
[null,130,{"$error":"#DIV/0!"},130]
[null,135,{"$error":"#DIV/0!"},135]
[null,140,{"$error":"#DIV/0!"},140]
[null,145,{"$error":"#DIV/0!"},145]
[null,150,{"$error":"#DIV/0!"},150]
[null,155,{"$error":"#DIV/0!"},155,{"$nulls":4},"Heading","Distance"]
[null,160,{"$error":"#DIV/0!"},160,{"$nulls":3},"For Chart",0,0,null,null,"The Main Business!"]
[null,165,{"$error":"#DIV/0!"},165,{"$nulls":3},"remember, delete this in macro",0,0,{"$nulls":3},"DR\nheading","DR\n distance","actual\n heading","actual\n distance"]
[null,170,{"$error":"#DIV/0!"},170,{"$nulls":3},-26,0,0,{"$nulls":3},{"$f":"Display!E9","v":0},{"$f":"Display!D9","v":0},{"$f":"Display!N31","v":0},{"$f":"Display!M31","v":{"v":10,"d":"10.00"}}]
[null,175,{"$error":"#DIV/0!"},175,{"$nulls":3},-25,0,0]
[null,180,{"$error":"#DIV/0!"},180,{"$nulls":3},-24,0,0,null,null,"difference","TREND"]
[null,185,{"$error":"#DIV/0!"},185,{"$nulls":3},-23,0,0,null,null,"heading",{"$f":"N85-P85","v":0}]
[null,190,{"$error":"#DIV/0!"},190,{"$nulls":3},-22,0,0,null,null,"distance",{"$f":"O85-Q85","v":{"v":-10,"d":"-10.00"}}]
[null,195,{"$error":"#DIV/0!"},195,{"$nulls":3},-21,0,0,{"$nulls":4},"Destin","ation"]
[null,200,{"$error":"#DIV/0!"},200,{"$nulls":3},-20,0,0,{"$nulls":4},"Heading","Distance"]
[null,205,{"$error":"#DIV/0!"},205,{"$nulls":3},-19,0,0," ",{"$nulls":3},{"$f":"Display!E13","v":360},{"$f":"Display!D13","v":{"v":10,"d":"10.00"}}]
[null,210,{"$error":"#DIV/0!"},210,{"$nulls":3},-18,0,0]
[null,215,{"$error":"#DIV/0!"},215,{"$nulls":3},-17,0,0]
[null,220,{"$error":"#DIV/0!"},220,{"$nulls":3},-16,0,0]
[null,225,{"$error":"#DIV/0!"},225,{"$nulls":3},-15,0,0]
[null,230,{"$error":"#DIV/0!"},230,{"$nulls":3},-14,0,0]
[null,235,{"$error":"#DIV/0!"},235,{"$nulls":3},-13,0,0]
[null,240,{"$error":"#DIV/0!"},240,{"$nulls":3},-12,-220,-13.267972866667106]
[null,245,{"$error":"#DIV/0!"},245,{"$nulls":3},-11,-220,-13.267972866667106]
[null,250,{"$error":"#DIV/0!"},250,{"$nulls":3},-10,-245,-39.131224565697956]
[null,255,{"$error":"#DIV/0!"},255,{"$nulls":3},-9,-245,-39.131224565697956]
[null,260,{"$error":"#DIV/0!"},260,{"$nulls":3},-8,-235,-41.05910889887671]
[null,265,{"$error":"#DIV/0!"},265,null," ",null,-7,-235,-41.05910889887671]
[null,270,{"$f":"IF($H$43>=(B105-2.5),IF($H$43<(B105+2.5),$E$43,0))","v":{"$error":"#DIV/0!"}},270,null,null," ",-6,-235,-41.05910889887671]
[null,-85,{"$f":"IF($H$43>=(B106-4.9),IF($H$43<(B106+2.5),$E$43,0))","v":{"$error":"#DIV/0!"}},275,null,null," ",-5,-235,-38.127429065433105]
[null,-80,{"$error":"#DIV/0!"},280,{"$nulls":3},-4,-235,-38.127429065433105]
[null,-75,{"$error":"#DIV/0!"},285,{"$nulls":3},-3,-25,-2.209501118920769," "]
[null,-70,{"$error":"#DIV/0!"},290,{"$nulls":3},-2,-25,-2.209501118920769]
[null,-65,{"$error":"#DIV/0!"},295,{"$nulls":3},-1,-85,-3.90254618554208]
[null,-60,{"$error":"#DIV/0!"},300,{"$nulls":3},"now",-70,-18.126155740733015]
[null,-55,{"$error":"#DIV/0!"},305,{"$nulls":3},"future"]
[null,-50,{"$error":"#DIV/0!"},310]
[null,-45,{"$error":"#DIV/0!"},315]
[null,-40,{"$error":"#DIV/0!"},320]
[null,-35,{"$f":"IF($H$43>=(B116-2.5),IF($H$43<(B116+2.5),$E$43,0))","v":{"$error":"#DIV/0!"}},325]
[null,-30,{"$error":"#DIV/0!"},330]
[null,-25,{"$error":"#DIV/0!"},335]
[null,-20,{"$error":"#DIV/0!"},340]
[null,-15,{"$error":"#DIV/0!"},345]
[null,-10,{"$error":"#DIV/0!"},350,null,null,"Vector Subtraction - Ground Track minus Disturbance Vector."]
[null,-5,{"$error":"#DIV/0!"},355,{"$nulls":3},"heading","distance","x","y",null,"Radians"]
[{"$nulls":6},"Ground Track",{"$f":"Display!E13","v":360},{"$f":"Display!D13","v":10},{"$f":"I123*SIN(M123)","v":{"v":-6.4622786288826e-14,"d":"-0.00"}},{"$f":"I123*COS(M123)","v":{"v":10,"d":"10.00"}},null,{"$f":"3.14159265358979*(H123)/180","v":6.28318530717958}]
[null,"ANSWER",null,{"$f":"IF(ISNA(VLOOKUP(E43,C51:D122,2,FALSE)),0,VLOOKUP(E43,C51:D122,2,FALSE))","v":0},null,null,"Disturbance Vector",{"$f":"H43","v":{"$error":"#DIV/0!"}},{"$f":"E43","v":{"v":0,"d":"0.00"}},{"$f":"C43","v":{"v":0,"d":"0.00"}},{"$f":"D43","v":{"v":0,"d":"0.00"}}]
[{"$nulls":6},"Resultant Vector",{"$f":"90-(M125*180/(3.14159265358979))","v":{"v":-4.547473508864641e-13,"d":"-0.00"}},{"$f":"SQRT((J125*J125+K125*K125))","v":{"v":10,"d":"10.00"}},{"$f":"SUM(J123-J124)","v":{"v":-6.4622786288826e-14,"d":"-0.00"}},{"$f":"SUM(K123-K124)","v":{"v":10,"d":"10.00"}},null,{"$f":"ATAN2(J125,K125)","v":1.570796326794903}]
[]
[]
["IF(ISNA(VLOOKUP(E43,C51:D122,2,FALSE)),0,VLOOKUP(E43,C51:D122,2,FALSE))"]
[{"$nulls":6},"angle","distance?","angle"]
[{"$nulls":6},0,{"$f":"IF($H$125>=(G130-2.5),IF($H$125<(G130+2.5),$I$125,0))","v":10},0]
[{"$nulls":6},5,{"$f":"IF($H$125>=(G131-2.5),IF($H$125<(G131+2.5),$I$125,0))","v":false},5]
[null," ",{"$nulls":4},10,false,10]
[{"$nulls":6},15,false,15]
[{"$nulls":6},20,false,20]
[{"$nulls":6},25,false,25]
[{"$nulls":6},30,false,30]
[{"$nulls":6},35,false,35]
[{"$nulls":6},40,false,40]
[{"$nulls":6},45,false,45]
[{"$nulls":6},50,false,50]
[{"$nulls":6},55,false,55]
[{"$nulls":6},60,false,60]
[{"$nulls":6},65,false,65]
[{"$nulls":6},70,false,70]
[{"$nulls":6},75,false,75]
[{"$nulls":6},80,false,80]
[{"$nulls":6},85,false,85]
[{"$nulls":6},90,false,90]
[{"$nulls":6},95,false,95]
[{"$nulls":6},100,false,100]
[{"$nulls":6},105,false,105]
[{"$nulls":6},110,false,110]
[{"$nulls":6},115,false,115]
[{"$nulls":6},120,false,120]
[{"$nulls":6},125,false,125]
[{"$nulls":6},130,false,130]
[{"$nulls":6},135,false,135]
[{"$nulls":6},140,false,140]
[{"$nulls":6},145,false,145]
[{"$nulls":6},150,false,150]
[{"$nulls":6},155,false,155]
[{"$nulls":6},160,false,160]
[{"$nulls":6},165,false,165]
[{"$nulls":6},170,false,170]
[{"$nulls":6},175,false,175]
[{"$nulls":6},180,false,180]
[{"$nulls":6},185,false,185]
[{"$nulls":6},190,false,190]
[{"$nulls":6},195,false,195]
[{"$nulls":6},200,false,200]
[{"$nulls":6},205,false,205]
[{"$nulls":6},210,false,210]
[{"$nulls":6},215,false,215]
[{"$nulls":6},220,false,220]
[{"$nulls":6},225,false,225]
[{"$nulls":6},230,false,230]
[{"$nulls":6},235,false,235]
[{"$nulls":6},240,false,240]
[{"$nulls":6},245,false,245]
[{"$nulls":6},250,false,250]
[{"$nulls":6},255,false,255]
[{"$nulls":6},260,false,260]
[{"$nulls":6},265,false,265]
[{"$nulls":6},270,false,270]
[{"$nulls":6},-85,0,275]
[{"$nulls":6},-80,0,280]
[{"$nulls":6},-75,0,285]
[{"$nulls":6},-70,0,290]
[{"$nulls":6},-65,0,295]
[{"$nulls":6},-60,0,300]
[{"$nulls":6},-55,0,305]
[{"$nulls":6},-50,0,310]
[{"$nulls":6},-45,0,315]
[{"$nulls":6},-40,0,320]
[{"$nulls":6},-35,{"$f":"IF($H$125>=(G195-2.5),IF($H$125<(G195+2.5),$I$125,0))","v":0},325]
[{"$nulls":6},-30,0,330]
[{"$nulls":6},-25,0,335]
[{"$nulls":6},-20,0,340]
[{"$nulls":6},-15,0,345]
[{"$nulls":6},-10,0,350]
[{"$nulls":6},-5,0,355]
[]
[{"$nulls":6},"ANSWER",null,{"$f":"IF(ISNA(VLOOKUP(I125,H130:I201,2,FALSE)),0,VLOOKUP(I125,H130:I201,2,FALSE))","v":0}]
[]
[]
[{"$nulls":8},"VLOOKUP(I125,H130:I201,2,FALSE)"]
[]
[{"$nulls":6},"IF(ISNA(VLOOKUP(I125,H130:I201,2,FALSE)),0,VLOOKUP(I125,H130:I201,2,FALSE))"]